BEGIN:VCALENDAR
VERSION:2.0
BEGIN:VEVENT
DTSTART:20240613T230000Z
DTEND:20240614T003000Z
SUMMARY:Asamblea General Extraordinaria 2024
DESCRIPTION:Extendemos formalmente la invitación a participar de nuestra asamblea general extraordinaria con el propósito de cambio en el domicilio Social de la Asociación. \n\n\nConvocatoria: Día: Jueves 13 de junio, 2024 I Convocatoria: 17:00 hrs. II Convocatoria: 17:30 hrs.\n\nLa Asamblea será completamente virtual. \n\n\nEl representante legal deberá presentar una personería jurídica de su empresa vigente. En caso de que el representante legal de la empresa no pueda asistir a la Asamblea, puede designar a otra persona de la empresa que lo represente, pero deberá informarlo previamente a CAMTIC con NOTA DE AUTORIZACION y un poder especial que le permita participar de la votación. \n\nHacer llegar estos documentos a Catalina Soto, CAMTIC | email: ecorporativo@camtic.org\n\nMás información:\nIndiana Mena, CAMTIC | email: icomercial@camtic.org\nCatalina Soto, CAMTIC | email: ecorporativo@camtic.org
LOCATION:Zoom
END:VEVENT
END:VCALENDAR
